BEGIN:VCALENDAR
VERSION:2.0
PRODID:-//Artessa Living - ECPv6.13.2.1//NONSGML v1.0//EN
CALSCALE:GREGORIAN
METHOD:PUBLISH
X-WR-CALNAME:Artessa Living
X-ORIGINAL-URL:https://artessaliving.com
X-WR-CALDESC:Events for Artessa Living
REFRESH-INTERVAL;VALUE=DURATION:PT1H
X-Robots-Tag:noindex
X-PUBLISHED-TTL:PT1H
BEGIN:VTIMEZONE
TZID:America/Chicago
BEGIN:DAYLIGHT
TZOFFSETFROM:-0600
TZOFFSETTO:-0500
TZNAME:CDT
DTSTART:20230312T080000
END:DAYLIGHT
BEGIN:STANDARD
TZOFFSETFROM:-0500
TZOFFSETTO:-0600
TZNAME:CST
DTSTART:20231105T070000
END:STANDARD
END:VTIMEZONE
BEGIN:VTIMEZONE
TZID:America/New_York
BEGIN:DAYLIGHT
TZOFFSETFROM:-0500
TZOFFSETTO:-0400
TZNAME:EDT
DTSTART:20230312T070000
END:DAYLIGHT
BEGIN:STANDARD
TZOFFSETFROM:-0400
TZOFFSETTO:-0500
TZNAME:EST
DTSTART:20231105T060000
END:STANDARD
END:VTIMEZONE
BEGIN:VEVENT
DTSTART;TZID=America/Chicago:20230504T140000
DTEND;TZID=America/Chicago:20230504T160000
DTSTAMP:20260421T015605
CREATED:20230410T201248Z
LAST-MODIFIED:20230410T201603Z
UID:1694-1683208800-1683216000@artessaliving.com
SUMMARY:Cooperative Tour of Zvago Central Village in Apple Valley
DESCRIPTION:[vc_row][vc_column][vc_column_text]If you’re considering the cooperative lifestyle\, we invite you to attend this open house at Zvago Central Village in Apple Valley; this is the best opportunity to see an existing community in a prime location\, talk to members\, see floorplans and amenities\, and hear about the lifestyle from people already living it![/vc_column_text]\n\n                 \n \n                        Full Name(Required)\n                            \n                            \n                                                    \n                                                    First\n                                                \n                            \n                            \n                                                    \n                                                    Last\n                                                \n                            \n                        Email(Required)\n                            \n                        Phone(Required)Number of Attendees(Required)General Questions/CommentsHOW DID YOU HEAR ABOUT US?Social MediaPrint AdvertisementEmailDirect MailerOther (Fill in the blank)What other way did you hear about us?CAPTCHA\n          \n            \n            \n            \n            \n            \n            \n            \n            \n            \n            \n            \n            \n        \n                        \n                        \n		                \n		                \n[/vc_column][/vc_row]
URL:https://artessaliving.com/event/cooperative-tour-of-zvago-central-village-in-apple-valley/
LOCATION:Zvago Central Village in Apple Valley\, 7070 153rd St. West\, Apple Valley\, Minnesota\, 55124\, United States
CATEGORIES:past events
ATTACH;FMTTYPE=image/jpeg:https://artessaliving.com/wp-content/uploads/2023/04/kwa_zvagocentral_ext_lg_2020_0614-11-scaled-1.jpg
END:VEVENT
BEGIN:VEVENT
DTSTART;TZID=America/New_York:20230511T130000
DTEND;TZID=America/New_York:20230511T130000
DTSTAMP:20260421T015605
CREATED:20230424T164327Z
LAST-MODIFIED:20230427T153912Z
UID:1748-1683810000-1683810000@artessaliving.com
SUMMARY:Artessa Mound Harbor Informational Session at Lafayette Club
DESCRIPTION:[vc_row][vc_column][vc_column_text]Join us for an informational session to learn all about Artessa Mound Harbor’s incredible location\, home plans\, pricing options\, amenities\, and much more![/vc_column_text]\n                 \n \n                        Full Name(Required)\n                            \n                            \n                                                    \n                                                    First\n                                                \n                            \n                            \n                                                    \n                                                    Last\n                                                \n                            \n                        Email(Required)\n                            \n                        Phone(Required)Number of Attendees(Required)General Questions/CommentsHOW DID YOU HEAR ABOUT US?Social MediaPrint AdvertisementEmailDirect MailerOther (Fill in the blank)What other way did you hear about us?CAPTCHA\n          \n            \n            \n            \n            \n            \n            \n            \n            \n            \n            \n            \n            \n        \n                        \n                        \n		                \n		                \n[/vc_column][/vc_row]
URL:https://artessaliving.com/event/artessa-mound-harbor-informational-session/
LOCATION:Lafayette Country Club\, 2800 Northview Rd\, Minnetonka Beach\, 55361
CATEGORIES:past events
ATTACH;FMTTYPE=image/jpeg:https://artessaliving.com/wp-content/uploads/2023/04/sunset-backofclub_51_44838-161608852153345.jpeg
END:VEVENT
END:VCALENDAR