BEGIN:VCALENDAR
VERSION:2.0
PRODID:-//Artessa Living - ECPv6.13.2.1//NONSGML v1.0//EN
CALSCALE:GREGORIAN
METHOD:PUBLISH
X-ORIGINAL-URL:https://artessaliving.com
X-WR-CALDESC:Events for Artessa Living
REFRESH-INTERVAL;VALUE=DURATION:PT1H
X-Robots-Tag:noindex
X-PUBLISHED-TTL:PT1H
BEGIN:VTIMEZONE
TZID:America/Chicago
BEGIN:DAYLIGHT
TZOFFSETFROM:-0600
TZOFFSETTO:-0500
TZNAME:CDT
DTSTART:20230312T080000
END:DAYLIGHT
BEGIN:STANDARD
TZOFFSETFROM:-0500
TZOFFSETTO:-0600
TZNAME:CST
DTSTART:20231105T070000
END:STANDARD
END:VTIMEZONE
BEGIN:VTIMEZONE
TZID:America/New_York
BEGIN:DAYLIGHT
TZOFFSETFROM:-0500
TZOFFSETTO:-0400
TZNAME:EDT
DTSTART:20230312T070000
END:DAYLIGHT
BEGIN:STANDARD
TZOFFSETFROM:-0400
TZOFFSETTO:-0500
TZNAME:EST
DTSTART:20231105T060000
END:STANDARD
END:VTIMEZONE
BEGIN:VEVENT
DTSTART;TZID=America/Chicago:20231005T143000
DTEND;TZID=America/Chicago:20231005T173000
DTSTAMP:20260420T172135
CREATED:20231002T152017Z
LAST-MODIFIED:20231002T152040Z
UID:2167-1696516200-1696527000@artessaliving.com
SUMMARY:Cooperative Tour of Zvago Glen Lake
DESCRIPTION:[vc_row][vc_column][vc_column_text]If you’re considering the cooperative lifestyle\, we invite you to attend this open house at Zvago Glen Lake; this is the best opportunity to see an existing community for 62+ in a prime location\, talk to members\, see floorplans and amenities\, and hear about the lifestyle from people already living it![/vc_column_text]\n\n                 \n \n                        Full Name(Required)\n                            \n                            \n                                                    \n                                                    First\n                                                \n                            \n                            \n                                                    \n                                                    Last\n                                                \n                            \n                        Email(Required)\n                            \n                        Phone(Required)Number of Attendees(Required)General Questions/CommentsHOW DID YOU HEAR ABOUT US?Social MediaPrint AdvertisementEmailDirect MailerOther (Fill in the blank)What other way did you hear about us?CAPTCHA\n          \n            \n            \n            \n            \n            \n            \n            \n            \n            \n            \n            \n            \n        \n                        \n                        \n		                \n		                \n[/vc_column][/vc_row]
URL:https://artessaliving.com/event/cooperative-tour-of-zvago-glen-lake/
LOCATION:Zvago Glen Lake\, 14301 Stewart Ln\, Minnetonka\, 55345\, United States
CATEGORIES:past events
ATTACH;FMTTYPE=image/jpeg:https://artessaliving.com/wp-content/uploads/2023/10/Lakeside-View-sky-lighter2.jpg
END:VEVENT
BEGIN:VEVENT
DTSTART;TZID=America/New_York:20231017T093000
DTEND;TZID=America/New_York:20231017T103000
DTSTAMP:20260420T172135
CREATED:20231002T152337Z
LAST-MODIFIED:20231002T152337Z
UID:2171-1697535000-1697538600@artessaliving.com
SUMMARY:Artessa Canterbury Crossing Coffee + Learn Info. Session
DESCRIPTION:[vc_row][vc_column][vc_column_text] \n\n\nJoin us at the recently opened Badger Hill Brewing\, our future neighbor at Artessa Canterbury Crossing in Shakopee. \n  \nThis casual event is perfect for individuals considering the cooperative lifestyle who want to learn more about floorplans\, pricing options\, amenities\, the Canterbury Crossing area\, and so much more. \n  \n\nYou’ll have the opportunity to meet our team\, ask questions\, and discover what makes this new community for individuals 62 and better\, the most attractive boutique ownership experience in the area. \n\nCoffee and light breakfast will be served. [/vc_column_text]\n                 \n \n                        Full Name(Required)\n                            \n                            \n                                                    \n                                                    First\n                                                \n                            \n                            \n                                                    \n                                                    Last\n                                                \n                            \n                        Email(Required)\n                            \n                        Phone(Required)Number of Attendees(Required)General Questions/CommentsHOW DID YOU HEAR ABOUT US?Social MediaPrint AdvertisementEmailDirect MailerOther (Fill in the blank)What other way did you hear about us?CAPTCHA\n          \n            \n            \n            \n            \n            \n            \n            \n            \n            \n            \n            \n            \n        \n                        \n                        \n		                \n		                \n[/vc_column][/vc_row]
URL:https://artessaliving.com/event/artessa-canterbury-crossing-coffee-learn-info-session/
LOCATION:Badger Hill Brewing\, 2805 Winners Cir Dr.\, Shakopee\, 55376\, United States
CATEGORIES:past events
ATTACH;FMTTYPE=image/png:https://artessaliving.com/wp-content/uploads/2022/08/Event-Image-1-min.png
END:VEVENT
BEGIN:VEVENT
DTSTART;TZID=America/New_York:20231019T150000
DTEND;TZID=America/New_York:20231019T160000
DTSTAMP:20260420T172135
CREATED:20231002T152633Z
LAST-MODIFIED:20231002T153156Z
UID:2177-1697727600-1697731200@artessaliving.com
SUMMARY:Artessa Canterbury Crossing Informational Session
DESCRIPTION:[vc_row][vc_column][vc_column_text] \n\n\nThis casual event is perfect for individuals considering the cooperative lifestyle who want to learn more about floorplans\, pricing options\, amenities\, the Canterbury Crossing area\, and so much more. \n  \n\nYou’ll have the opportunity to meet our team\, ask questions\, and discover what makes this new community for individuals 62 and better\, the most attractive boutique ownership experience in the area. \n\nLight refreshments will be served.[/vc_column_text]\n                 \n \n                        Full Name(Required)\n                            \n                            \n                                                    \n                                                    First\n                                                \n                            \n                            \n                                                    \n                                                    Last\n                                                \n                            \n                        Email(Required)\n                            \n                        Phone(Required)Number of Attendees(Required)General Questions/CommentsHOW DID YOU HEAR ABOUT US?Social MediaPrint AdvertisementEmailDirect MailerOther (Fill in the blank)What other way did you hear about us?CAPTCHA\n          \n            \n            \n            \n            \n            \n            \n            \n            \n            \n            \n            \n            \n        \n                        \n                        \n		                \n		                \n[/vc_column][/vc_row]
URL:https://artessaliving.com/event/artessa-canterbury-crossing-informational-session-5/
LOCATION:Greystone\, 2995 Winners Cir Dr Suite 200\, Shakopee\, MN\, 55379\, United States
CATEGORIES:past events
ATTACH;FMTTYPE=image/jpeg:https://artessaliving.com/wp-content/uploads/2022/08/Event_Canterbury_Crossing3.jpg
END:VEVENT
BEGIN:VEVENT
DTSTART;TZID=America/New_York:20231024T093000
DTEND;TZID=America/New_York:20231024T103000
DTSTAMP:20260420T172135
CREATED:20231002T152434Z
LAST-MODIFIED:20231002T152434Z
UID:2174-1698139800-1698143400@artessaliving.com
SUMMARY:Artessa Canterbury Crossing Coffee + Learn Info. Session
DESCRIPTION:[vc_row][vc_column][vc_column_text] \n\n\nJoin us at the recently opened Badger Hill Brewing\, our future neighbor at Artessa Canterbury Crossing in Shakopee. \n  \nThis casual event is perfect for individuals considering the cooperative lifestyle who want to learn more about floorplans\, pricing options\, amenities\, the Canterbury Crossing area\, and so much more. \n  \n\nYou’ll have the opportunity to meet our team\, ask questions\, and discover what makes this new community for individuals 62 and better\, the most attractive boutique ownership experience in the area. \n\nCoffee and light breakfast will be served. [/vc_column_text]\n                 \n \n                        Full Name(Required)\n                            \n                            \n                                                    \n                                                    First\n                                                \n                            \n                            \n                                                    \n                                                    Last\n                                                \n                            \n                        Email(Required)\n                            \n                        Phone(Required)Number of Attendees(Required)General Questions/CommentsHOW DID YOU HEAR ABOUT US?Social MediaPrint AdvertisementEmailDirect MailerOther (Fill in the blank)What other way did you hear about us?CAPTCHA\n          \n            \n            \n            \n            \n            \n            \n            \n            \n            \n            \n            \n            \n        \n                        \n                        \n		                \n		                \n[/vc_column][/vc_row]
URL:https://artessaliving.com/event/artessa-canterbury-crossing-coffee-learn-info-session-2/
LOCATION:Badger Hill Brewing\, 2805 Winners Cir Dr.\, Shakopee\, 55376\, United States
CATEGORIES:past events
ATTACH;FMTTYPE=image/png:https://artessaliving.com/wp-content/uploads/2023/10/Untitled-design.png
END:VEVENT
BEGIN:VEVENT
DTSTART;TZID=America/New_York:20231026T150000
DTEND;TZID=America/New_York:20231026T160000
DTSTAMP:20260420T172135
CREATED:20231002T153348Z
LAST-MODIFIED:20231002T153348Z
UID:2182-1698332400-1698336000@artessaliving.com
SUMMARY:Artessa Canterbury Crossing Informational Session
DESCRIPTION:[vc_row][vc_column][vc_column_text] \n\n\nThis casual event is perfect for individuals considering the cooperative lifestyle who want to learn more about floorplans\, pricing options\, amenities\, the Canterbury Crossing area\, and so much more. \n  \n\nYou’ll have the opportunity to meet our team\, ask questions\, and discover what makes this new community for individuals 62 and better\, the most attractive boutique ownership experience in the area. \n\nLight refreshments will be served.[/vc_column_text]\n                 \n \n                        Full Name(Required)\n                            \n                            \n                                                    \n                                                    First\n                                                \n                            \n                            \n                                                    \n                                                    Last\n                                                \n                            \n                        Email(Required)\n                            \n                        Phone(Required)Number of Attendees(Required)General Questions/CommentsHOW DID YOU HEAR ABOUT US?Social MediaPrint AdvertisementEmailDirect MailerOther (Fill in the blank)What other way did you hear about us?CAPTCHA\n          \n            \n            \n            \n            \n            \n            \n            \n            \n            \n            \n            \n            \n        \n                        \n                        \n		                \n		                \n[/vc_column][/vc_row]
URL:https://artessaliving.com/event/artessa-canterbury-crossing-informational-session-6/
LOCATION:Greystone\, 2995 Winners Cir Dr Suite 200\, Shakopee\, MN\, 55379\, United States
CATEGORIES:past events
ATTACH;FMTTYPE=image/jpeg:https://artessaliving.com/wp-content/uploads/2022/08/Event_Canterbury_Crossing3.jpg
END:VEVENT
END:VCALENDAR