BEGIN:VCALENDAR
VERSION:2.0
PRODID:-//Artessa Living - ECPv6.13.2.1//NONSGML v1.0//EN
CALSCALE:GREGORIAN
METHOD:PUBLISH
X-ORIGINAL-URL:https://artessaliving.com
X-WR-CALDESC:Events for Artessa Living
REFRESH-INTERVAL;VALUE=DURATION:PT1H
X-Robots-Tag:noindex
X-PUBLISHED-TTL:PT1H
BEGIN:VTIMEZONE
TZID:America/Chicago
BEGIN:DAYLIGHT
TZOFFSETFROM:-0600
TZOFFSETTO:-0500
TZNAME:CDT
DTSTART:20240310T080000
END:DAYLIGHT
BEGIN:STANDARD
TZOFFSETFROM:-0500
TZOFFSETTO:-0600
TZNAME:CST
DTSTART:20241103T070000
END:STANDARD
END:VTIMEZONE
BEGIN:VTIMEZONE
TZID:America/New_York
BEGIN:DAYLIGHT
TZOFFSETFROM:-0500
TZOFFSETTO:-0400
TZNAME:EDT
DTSTART:20240310T070000
END:DAYLIGHT
BEGIN:STANDARD
TZOFFSETFROM:-0400
TZOFFSETTO:-0500
TZNAME:EST
DTSTART:20241103T060000
END:STANDARD
END:VTIMEZONE
BEGIN:VEVENT
DTSTART;TZID=America/Chicago:20241116T120000
DTEND;TZID=America/Chicago:20241116T160000
DTSTAMP:20260419T190536
CREATED:20241111T220803Z
LAST-MODIFIED:20241111T230842Z
UID:2596-1731758400-1731772800@artessaliving.com
SUMMARY:Saturday Model Residence Tours
DESCRIPTION:We offer Saturday tour hours from 12 PM to 4 PM\, during which our model residences are open for individuals interested in exploring cooperative living to see finishes\, layouts\, and more. An Artessa team member will be on-site to answer questions about residence plans\, the Artessa lifestyle\, and more. \nRSVPs are not required for these drop-in-style model residence viewings. If you are interested in scheduling a time with a sales team member\, please contact Maggie today at maggie@thislifestyle.com or (612) 283-5240. \nSaturday Model Residence Tours \nHours: 12 PM to 4 PM; drop-in style\, no RSVP required. \n*Excludes Thanksgiving weekend Nov. 30 & Dec. 1[/vc_column_text][/vc_column][/vc_row]
URL:https://artessaliving.com/event/daily-tours-of-artessa-mound-harbor/
LOCATION:Artessa Mound Harbor\, 2350 Harbor Place\, Mound\, MN\, 55364\, United States
CATEGORIES:past events
ATTACH;FMTTYPE=image/png:https://artessaliving.com/wp-content/uploads/2024/10/Screenshot-2024-10-25-at-4.04.09 PM.png
END:VEVENT
BEGIN:VEVENT
DTSTART;TZID=America/Chicago:20241117T090000
DTEND;TZID=America/Chicago:20241117T180000
DTSTAMP:20260419T190536
CREATED:20241025T210634Z
LAST-MODIFIED:20241111T230246Z
UID:2606-1731834000-1731866400@artessaliving.com
SUMMARY:Appt Only: Sunday Model Residence Tours
DESCRIPTION:[vc_row][vc_column][vc_column_text css=””]We will offer Sunday tours by appointment only this Sunday for individuals interested in exploring cooperative living to see finishes\, layouts\, and more. If you are interested in scheduling a time with a sales team member\, please contact Maggie today at maggie@thislifestyle.com or (612) 283-5240. \nSunday Model Residence Tours | By Appointment Only \n*Excludes Thanksgiving weekend Nov. 30 & Dec. 1[/vc_column_text][/vc_column][/vc_row]
URL:https://artessaliving.com/event/sunday-model-residence-tours/
LOCATION:Artessa Mound Harbor\, 2350 Harbor Place\, Mound\, MN\, 55364\, United States
CATEGORIES:past events
ATTACH;FMTTYPE=image/png:https://artessaliving.com/wp-content/uploads/2024/10/Screenshot-2024-10-25-at-4.04.32 PM.png
END:VEVENT
BEGIN:VEVENT
DTSTART;TZID=America/New_York:20241118T140000
DTEND;TZID=America/New_York:20241118T170000
DTSTAMP:20260419T190536
CREATED:20241115T144645Z
LAST-MODIFIED:20250912T202626Z
UID:2651-1731938400-1731949200@artessaliving.com
SUMMARY:Friendsgiving at the Design Studio
DESCRIPTION:[vc_row][vc_column][vc_column_text css=””] \nInterested in the cooperative lifestyle at Artessa Maple Grove? You’re exclusively invited to our first Friendsgiving celebration! \nMeet your future community and bring along friends who’d make great neighbors. \nEnjoy appetizers and beverages while hearing from our dedicated sponsors\, Desrochers Realty Group and Changing Lifestyle Solutions! \n______________________ \nAbout Artessa Maple Grove \nA rustic\, resort-like setting to suit your lifestyle. Located at the corner of County Road 81 and Maple Grove Parkway\, Artessa is bringing its unique brand of active lifestyle and 62+ co-op communities to Maple Grove’s not-so-sleepy Rush Hollow neighborhood. Artessa Maple Grove at Rush Hollow perfectly balances old-world charm\, modern amenities\, and local conveniences.[/vc_column_text]\n\n                 \n \n                        Full Name(Required)\n                            \n                            \n                                                    \n                                                    First\n                                                \n                            \n                            \n                                                    \n                                                    Last\n                                                \n                            \n                        Email(Required)\n                            \n                        Phone(Required)Number of Attendees(Required)General Questions/CommentsHOW DID YOU HEAR ABOUT US?Social MediaPrint AdvertisementEmailDirect MailerOther (Fill in the blank)What other way did you hear about us?CAPTCHA\n          \n            \n            \n            \n            \n            \n            \n            \n            \n            \n            \n            \n            \n        \n                        \n                        \n[/vc_column][/vc_row]
URL:https://artessaliving.com/event/friendsgiving-at-the-design-studio/
LOCATION:Artessa Design Studio\, 4938 Lincoln Drive\, Edina\, 55436
CATEGORIES:past events
ATTACH;FMTTYPE=image/jpeg:https://artessaliving.com/wp-content/uploads/2024/10/5c91a594-048e-404a-a56a-da261226723d-e1758641502996.jpg
END:VEVENT
BEGIN:VEVENT
DTSTART;TZID=America/Chicago:20241123T120000
DTEND;TZID=America/Chicago:20241123T160000
DTSTAMP:20260419T190536
CREATED:20241115T144212Z
LAST-MODIFIED:20241115T144212Z
UID:2648-1732363200-1732377600@artessaliving.com
SUMMARY:Tour & Receive a Thanksgiving Pie on 11/23
DESCRIPTION:Are you looking for a maintenance-free home that allows you to explore your hobbies\, spend more time with family\, and lock and leave for your winter travels? Artessa Mound Harbor is the place for you. Join us for an open house to tour model residences\, learn about community amenities\, and meet with current members of this most exciting 62+ ownership in the greater Lake Minnetonka community in the heart of downtown Mound. \nTour attendees will have the opportunity to receive a complimentary pie just in time for the holiday. \nLimited quantities are available; while supplies last. 1 per couple/family. \nSaturday Model Residence Tours \nHours: 12 PM to 4 PM; drop-in style\, no RSVP required. \n*Excludes Thanksgiving weekend Nov. 30 & Dec. 1[/vc_column_text][/vc_column][/vc_row]
URL:https://artessaliving.com/event/tour-receive-a-thanksgiving-pie-on-11-23/
LOCATION:Artessa Mound Harbor\, 2350 Harbor Place\, Mound\, MN\, 55364\, United States
CATEGORIES:past events
ATTACH;FMTTYPE=image/png:https://artessaliving.com/wp-content/uploads/2024/10/Screenshot-2024-10-25-at-4.04.09 PM.png
END:VEVENT
BEGIN:VEVENT
DTSTART;TZID=America/Chicago:20241124T090000
DTEND;TZID=America/Chicago:20241124T180000
DTSTAMP:20260419T190536
CREATED:20241115T145646Z
LAST-MODIFIED:20241115T145646Z
UID:2663-1732438800-1732471200@artessaliving.com
SUMMARY:Appt Only: Sunday Model Residence Tours
DESCRIPTION:[vc_row][vc_column][vc_column_text css=””]We will offer Sunday tours by appointment only this Sunday for individuals interested in exploring cooperative living to see finishes\, layouts\, and more. If you are interested in scheduling a time with a sales team member\, please contact Maggie today at maggie@thislifestyle.com or (612) 283-5240. \nSunday Model Residence Tours | By Appointment Only \n[/vc_column_text][/vc_column][/vc_row]
URL:https://artessaliving.com/event/appt-only-sunday-model-residence-tours-3/
LOCATION:Artessa Mound Harbor\, 2350 Harbor Place\, Mound\, MN\, 55364\, United States
CATEGORIES:past events
ATTACH;FMTTYPE=image/png:https://artessaliving.com/wp-content/uploads/2024/10/Screenshot-2024-10-25-at-4.04.32 PM.png
END:VEVENT
END:VCALENDAR