BEGIN:VCALENDAR
VERSION:2.0
PRODID:-//Artessa Living - ECPv6.13.2.1//NONSGML v1.0//EN
CALSCALE:GREGORIAN
METHOD:PUBLISH
X-ORIGINAL-URL:https://artessaliving.com
X-WR-CALDESC:Events for Artessa Living
REFRESH-INTERVAL;VALUE=DURATION:PT1H
X-Robots-Tag:noindex
X-PUBLISHED-TTL:PT1H
BEGIN:VTIMEZONE
TZID:America/Chicago
BEGIN:DAYLIGHT
TZOFFSETFROM:-0600
TZOFFSETTO:-0500
TZNAME:CDT
DTSTART:20250309T080000
END:DAYLIGHT
BEGIN:STANDARD
TZOFFSETFROM:-0500
TZOFFSETTO:-0600
TZNAME:CST
DTSTART:20251102T070000
END:STANDARD
END:VTIMEZONE
BEGIN:VTIMEZONE
TZID:America/New_York
BEGIN:DAYLIGHT
TZOFFSETFROM:-0500
TZOFFSETTO:-0400
TZNAME:EDT
DTSTART:20250309T070000
END:DAYLIGHT
BEGIN:STANDARD
TZOFFSETFROM:-0400
TZOFFSETTO:-0500
TZNAME:EST
DTSTART:20251102T060000
END:STANDARD
END:VTIMEZONE
BEGIN:VEVENT
DTSTART;TZID=America/Chicago:20250311T150000
DTEND;TZID=America/Chicago:20250311T160000
DTSTAMP:20260419T124702
CREATED:20250306T190507Z
LAST-MODIFIED:20250306T190507Z
UID:2767-1741705200-1741708800@artessaliving.com
SUMMARY:Virtual Event: Artessa Maple Grove Informational Meeting
DESCRIPTION:Join us for an informational session to learn about the magic of cooperative living\, including community amenities\, residence features\, and more. You’ll have the opportunity to meet our team\, ask questions\, and discover what makes this new community for individuals 62 and better the most attractive ownership experience in the area. \nZoom Link: https://us02web.zoom.us/j/83909708543 \nQuestions: Katie Bonjean (katieb@thislifestyle.com) | Phone: 952.412.6158 \nAbout Artessa Maple Grove \nReady to discover your art of living? Coming soon to Maple Grove’s newest neighborhood at Rush Hollow is Artessa\, a co-op for people 62+\, where homes are more than just for living in. Choose from 74 boutique-style residences ranging from 1\,025-1\,772 sq.ft. and six attached villas of approximately 1\,600 sq.ft. Here\, you can pursue a dynamic community walkable to Elm Creek Park Reserve\, enjoy pride of ownership\, and a stylish\, maintenance-free home. Join us to take advantage of pre-construction benefits and learn how to personalize your new residence to fit your style.  \n 
URL:https://artessaliving.com/event/virtualmeeting311/
LOCATION:Virtual Meeting
CATEGORIES:past events
ATTACH;FMTTYPE=image/png:https://artessaliving.com/wp-content/uploads/2024/10/Screenshot-2024-10-25-at-4.04.09 PM.png
END:VEVENT
BEGIN:VEVENT
DTSTART;TZID=America/Chicago:20250314T150000
DTEND;TZID=America/Chicago:20250314T170000
DTSTAMP:20260419T124702
CREATED:20250307T181721Z
LAST-MODIFIED:20250912T202423Z
UID:2779-1741964400-1741971600@artessaliving.com
SUMMARY:Artessa Mound Harbor Open House
DESCRIPTION:[vc_row][vc_column][vc_column_text css=””]Step inside this stunning new lakeside cooperative and tour the community spaces\, available residences\, and floorplans while talking to our team about what makes this the most desirable new maintenance-free living opportunity in the ultra-walkable downtown Mound area. \nLocation: \nArtessa Mound Harbor \n2350 Harbor Place \nMound\, MN 55364 \nAbout Artessa Mound Harbor \nPerched off Mound’s Cooks Bay and the Lost Lake Harbor on Lake Minnetonka\, this 62+ co-op perfectly balances lake community charm\, modern amenities\, and local conveniences\, all with the benefits of maintenance-free homeownership and a built-in social network in one of the area’s most walkable neighborhoods\, right off the Dakota Rail Trail. \nArtessa Mound Harbor features abundant amenities that serve as an extension of members’ homes including: \n\nPickleball courts\nWellness studio\nHobby space\nOutdoor terrace featuring a pergola with a cozy fire pit and grilling stations\nGardening areas\nAnd more\n\nPrime homes remain but are selling fast. Move this spring and discover your art of living![/vc_column_text]\n\n                 \n \n                        Full Name(Required)\n                            \n                            \n                                                    \n                                                    First\n                                                \n                            \n                            \n                                                    \n                                                    Last\n                                                \n                            \n                        Email(Required)\n                            \n                        Phone(Required)Number of Attendees(Required)General Questions/CommentsHOW DID YOU HEAR ABOUT US?Social MediaPrint AdvertisementEmailDirect MailerOther (Fill in the blank)What other way did you hear about us?CAPTCHA\n          \n            \n            \n            \n            \n            \n            \n            \n            \n            \n            \n            \n            \n        \n                        \n                        \n[/vc_column][/vc_row]
URL:https://artessaliving.com/event/amh_openhouse314/
LOCATION:Artessa Mound Harbor\, 2350 Harbor Place\, Mound\, MN\, 55364\, United States
CATEGORIES:past events
ATTACH;FMTTYPE=image/png:https://artessaliving.com/wp-content/uploads/2025/03/Screenshot-2025-03-07-at-12.20.35 PM.png
END:VEVENT
BEGIN:VEVENT
DTSTART;TZID=America/Chicago:20250320T130000
DTEND;TZID=America/Chicago:20250320T140000
DTSTAMP:20260419T124702
CREATED:20250106T194400Z
LAST-MODIFIED:20250912T202404Z
UID:2694-1742475600-1742479200@artessaliving.com
SUMMARY:Artessa Maple Grove Informational Meeting
DESCRIPTION:[vc_row][vc_column][vc_column_text css=””]Join us for an informational session to learn about the magic of cooperative living\, including community amenities\, residence features\, and more. You’ll have the opportunity to meet our team\, ask questions\, and discover what makes this new community for individuals 62 and better the most attractive ownership experience in the area. \nSeating is limited — RSVP today! \nLocation: Rush Creek Golf Club\, 7801 County Rd 101\, Maple Grove\, MN 55311 \n______________________ \nAbout Artessa Maple Grove \nReady to discover your art of living? Coming soon to Maple Grove’s newest neighborhood at Rush Hollow is Artessa\, a co-op for people 62+\, where homes are more than just for living in. Choose from 74 boutique-style residences ranging from 1\,025-1\,772 sq.ft. and six attached villas of approximately 1\,600 sq.ft. Here\, you can pursue a dynamic community walkable to Elm Creek Park Reserve\, enjoy pride of ownership\, and a stylish\, maintenance-free home. Join us to take advantage of pre-construction benefits and learn how to personalize your new residence to fit your style. *Attend to win a door prize*[/vc_column_text]\n                 \n \n                        Full Name(Required)\n                            \n                            \n                                                    \n                                                    First\n                                                \n                            \n                            \n                                                    \n                                                    Last\n                                                \n                            \n                        Email(Required)\n                            \n                        Phone(Required)Number of Attendees(Required)General Questions/CommentsHOW DID YOU HEAR ABOUT US?Social MediaPrint AdvertisementEmailDirect MailerOther (Fill in the blank)What other way did you hear about us?CAPTCHA\n          \n            \n            \n            \n            \n            \n            \n            \n            \n            \n            \n            \n            \n        \n                        \n                        \n[/vc_column][/vc_row]
URL:https://artessaliving.com/event/amg_0325/
LOCATION:Rush Creek Golf Course\, 7801 County Rd 101\, Maple Grove\, MN\, 55311\, United States
CATEGORIES:past events
ATTACH;FMTTYPE=image/png:https://artessaliving.com/wp-content/uploads/2024/05/1.png
END:VEVENT
BEGIN:VEVENT
DTSTART;TZID=America/Chicago:20250325T140000
DTEND;TZID=America/Chicago:20250325T150000
DTSTAMP:20260419T124702
CREATED:20250124T165537Z
LAST-MODIFIED:20250912T202326Z
UID:2716-1742911200-1742914800@artessaliving.com
SUMMARY:Artessa on Ingersoll Informational Meeting
DESCRIPTION:[vc_row][vc_column][vc_column_text css=””]Join us to learn about Artessa on Ingersoll. Coming soon to the vibrant Avenues of Des Moines\, Artessa on Ingersoll will offer an ideal blend of historic charm and modern convenience in one of Des Moines’ most desirable neighborhoods. This new\, boutique-style cooperative will allow you to maintain pride of ownership with a personalized home in an amenity-packed community. This dynamic new cooperative will offer choices between 52 private residences or 6 villa-style townhomes ranging from 1\,172 to 1\,868 sq. ft. \nTake advantage of this exclusive opportunity to buy and design your residence before it’s built. \n\nOutdoor rooftop patio & fire feature\nGrand Fireside Lobby & Game Room\nBusiness Hub & Shared Workspace\nGreat room with entertainment kitchen\nSolarium & Wellness Studio\nCoffee & Cocktail Lounge and more!\n\nOn Tuesday\, March 25th\, learn about the magic of cooperative living\, including community amenities\, residence features\, and more. Plus\, you’ll have the opportunity to meet our team\, ask questions\, and discover what makes this new ownership community for individuals 55+ the most exciting new development in Des Moines. *Attend to win a door prize* \nSeating is limited — RSVP today! \nLocation: Plymouth Church\, 4126 Ingersoll Ave\, Des Moines\, IA 50312 \nQuestions? Contact Nathan Deutmeyer (515-745-4478)[/vc_column_text]\n                 \n \n                        Full Name(Required)\n                            \n                            \n                                                    \n                                                    First\n                                                \n                            \n                            \n                                                    \n                                                    Last\n                                                \n                            \n                        Email(Required)\n                            \n                        Phone(Required)Number of Attendees(Required)General Questions/CommentsHOW DID YOU HEAR ABOUT US?Social MediaPrint AdvertisementEmailDirect MailerOther (Fill in the blank)What other way did you hear about us?CAPTCHA\n          \n            \n            \n            \n            \n            \n            \n            \n            \n            \n            \n            \n            \n        \n                        \n                        \n[/vc_column][/vc_row]
URL:https://artessaliving.com/event/ingersoll_march25_meeting/
LOCATION:Plymouth Church\, 4126 Ingersoll Ave\, Des Moines\, IA\, 50312\, United States
CATEGORIES:past events
ATTACH;FMTTYPE=image/jpeg:https://artessaliving.com/wp-content/uploads/2025/01/Ingersoll-Street-Rendering-scaled.jpg
END:VEVENT
BEGIN:VEVENT
DTSTART;TZID=America/New_York:20250326T130000
DTEND;TZID=America/New_York:20250326T140000
DTSTAMP:20260419T124702
CREATED:20250306T190953Z
LAST-MODIFIED:20250912T202258Z
UID:2771-1742994000-1742997600@artessaliving.com
SUMMARY:Artessa Mound Harbor Tour
DESCRIPTION:[vc_row][vc_column][vc_column_text]Interested in the Artessa lifestyle and want to tour a completed community? Join us on Wednesday\, March 26th\, for a tour of Artessa Mound Harbor. You’ll see model residences and community amenities\, meet with members and have the opportunity to talk to our team about available residences at all of our cooperative communities. This is a wonderful time to discover your art of living at Artessa.[/vc_column_text]\n                 \n \n                        Full Name(Required)\n                            \n                            \n                                                    \n                                                    First\n                                                \n                            \n                            \n                                                    \n                                                    Last\n                                                \n                            \n                        Email(Required)\n                            \n                        Phone(Required)Number of Attendees(Required)General Questions/CommentsHOW DID YOU HEAR ABOUT US?Social MediaPrint AdvertisementEmailDirect MailerOther (Fill in the blank)What other way did you hear about us?CAPTCHA\n          \n            \n            \n            \n            \n            \n            \n            \n            \n            \n            \n            \n            \n        \n                        \n                        \n[/vc_column][/vc_row]
URL:https://artessaliving.com/event/artessa-mound-harbor-tour/
LOCATION:Artessa Mound Harbor\, 2350 Harbor Place\, Mound\, MN\, 55364\, United States
CATEGORIES:past events
ATTACH;FMTTYPE=image/jpeg:https://artessaliving.com/wp-content/uploads/2025/03/Artessa-Mound-004-Web-3-1-1.jpg
END:VEVENT
END:VCALENDAR