BEGIN:VCALENDAR
VERSION:2.0
PRODID:-//Artessa Living - ECPv6.13.2.1//NONSGML v1.0//EN
CALSCALE:GREGORIAN
METHOD:PUBLISH
X-ORIGINAL-URL:https://artessaliving.com
X-WR-CALDESC:Events for Artessa Living
REFRESH-INTERVAL;VALUE=DURATION:PT1H
X-Robots-Tag:noindex
X-PUBLISHED-TTL:PT1H
BEGIN:VTIMEZONE
TZID:America/Chicago
BEGIN:DAYLIGHT
TZOFFSETFROM:-0600
TZOFFSETTO:-0500
TZNAME:CDT
DTSTART:20230312T080000
END:DAYLIGHT
BEGIN:STANDARD
TZOFFSETFROM:-0500
TZOFFSETTO:-0600
TZNAME:CST
DTSTART:20231105T070000
END:STANDARD
END:VTIMEZONE
BEGIN:VTIMEZONE
TZID:America/New_York
BEGIN:DAYLIGHT
TZOFFSETFROM:-0500
TZOFFSETTO:-0400
TZNAME:EDT
DTSTART:20230312T070000
END:DAYLIGHT
BEGIN:STANDARD
TZOFFSETFROM:-0400
TZOFFSETTO:-0500
TZNAME:EST
DTSTART:20231105T060000
END:STANDARD
END:VTIMEZONE
BEGIN:VEVENT
DTSTART;TZID=America/Chicago:20230429T100000
DTEND;TZID=America/Chicago:20230429T140000
DTSTAMP:20260421T052009
CREATED:20230329T152321Z
LAST-MODIFIED:20230403T154044Z
UID:1645-1682762400-1682776800@artessaliving.com
SUMMARY:Mound Harbor Sales Gallery Open House
DESCRIPTION:[vc_row][vc_column][vc_column_text]Join us for a weekend open house to learn all about Artessa Mound Harbor’s incredible location\, home plans\, pricing options\, amenities\, and much more![/vc_column_text]\n\n                 \n \n                        Full Name(Required)\n                            \n                            \n                                                    \n                                                    First\n                                                \n                            \n                            \n                                                    \n                                                    Last\n                                                \n                            \n                        Email(Required)\n                            \n                        Phone(Required)Number of Attendees(Required)General Questions/CommentsHOW DID YOU HEAR ABOUT US?Social MediaPrint AdvertisementEmailDirect MailerOther (Fill in the blank)What other way did you hear about us?CAPTCHA\n          \n            \n            \n            \n            \n            \n            \n            \n            \n            \n            \n            \n            \n        \n                        \n                        \n		                \n		                \n[/vc_column][/vc_row]
URL:https://artessaliving.com/event/mound-harbor-sales-gallery-open-house-10/
LOCATION:Mound Harbor Sales Gallery\, 2206 Commerce Boulevard\, Mound Harbor\, MN\, 55364\, United States
CATEGORIES:past events
ATTACH;FMTTYPE=image/jpeg:https://artessaliving.com/wp-content/uploads/2023/02/Event_Mound_harbor2.jpg
END:VEVENT
BEGIN:VEVENT
DTSTART;TZID=America/New_York:20230429T100000
DTEND;TZID=America/New_York:20230429T140000
DTSTAMP:20260421T052009
CREATED:20230329T152917Z
LAST-MODIFIED:20230329T152917Z
UID:1654-1682762400-1682776800@artessaliving.com
SUMMARY:Artessa Canterbury Crossing Sales Gallery Open House
DESCRIPTION:[vc_row][vc_column][vc_column_text]Join us for an open house to learn all about Artessa Canterbury Crossing’s incredible location\, home plans\, pricing options\, amenities\, and much more![/vc_column_text]\n                 \n \n                        Full Name(Required)\n                            \n                            \n                                                    \n                                                    First\n                                                \n                            \n                            \n                                                    \n                                                    Last\n                                                \n                            \n                        Email(Required)\n                            \n                        Phone(Required)Number of Attendees(Required)General Questions/CommentsHOW DID YOU HEAR ABOUT US?Social MediaPrint AdvertisementEmailDirect MailerOther (Fill in the blank)What other way did you hear about us?CAPTCHA\n          \n            \n            \n            \n            \n            \n            \n            \n            \n            \n            \n            \n            \n        \n                        \n                        \n		                \n		                \n[/vc_column][/vc_row]
URL:https://artessaliving.com/event/artessa-canterbury-crossing-sales-gallery-open-house-2/
LOCATION:Artessa Sales Gallery\, 4938 Lincoln Dr.\, Edina\, MN\, 55436\, United States
CATEGORIES:past events
ATTACH;FMTTYPE=image/jpeg:https://artessaliving.com/wp-content/uploads/2022/08/Event_Canterbury_Crossing3.jpg
END:VEVENT
END:VCALENDAR