BEGIN:VCALENDAR
VERSION:2.0
PRODID:-//Artessa Living - ECPv6.13.2.1//NONSGML v1.0//EN
CALSCALE:GREGORIAN
METHOD:PUBLISH
X-WR-CALNAME:Artessa Living
X-ORIGINAL-URL:https://artessaliving.com
X-WR-CALDESC:Events for Artessa Living
REFRESH-INTERVAL;VALUE=DURATION:PT1H
X-Robots-Tag:noindex
X-PUBLISHED-TTL:PT1H
BEGIN:VTIMEZONE
TZID:America/Chicago
BEGIN:DAYLIGHT
TZOFFSETFROM:-0600
TZOFFSETTO:-0500
TZNAME:CDT
DTSTART:20230312T080000
END:DAYLIGHT
BEGIN:STANDARD
TZOFFSETFROM:-0500
TZOFFSETTO:-0600
TZNAME:CST
DTSTART:20231105T070000
END:STANDARD
END:VTIMEZONE
BEGIN:VEVENT
DTSTART;TZID=America/Chicago:20230629T140000
DTEND;TZID=America/Chicago:20230629T160000
DTSTAMP:20260421T002252
CREATED:20230521T214929Z
LAST-MODIFIED:20230521T215044Z
UID:1979-1688047200-1688054400@artessaliving.com
SUMMARY:Cooperative Tour of Zvago Stillwater
DESCRIPTION:[vc_row][vc_column][vc_column_text]If you’re considering the cooperative lifestyle\, we invite you to attend this open house at Zvago Stillwater; this is the best opportunity to see an existing community in a prime location\, talk to members\, see floorplans and amenities\, and hear about the lifestyle from people already living it![/vc_column_text]\n\n                 \n \n                        Full Name(Required)\n                            \n                            \n                                                    \n                                                    First\n                                                \n                            \n                            \n                                                    \n                                                    Last\n                                                \n                            \n                        Email(Required)\n                            \n                        Phone(Required)Number of Attendees(Required)General Questions/CommentsHOW DID YOU HEAR ABOUT US?Social MediaPrint AdvertisementEmailDirect MailerOther (Fill in the blank)What other way did you hear about us?CAPTCHA\n          \n            \n            \n            \n            \n            \n            \n            \n            \n            \n            \n            \n            \n        \n                        \n                        \n		                \n		                \n[/vc_column][/vc_row]
URL:https://artessaliving.com/event/cooperative-tour-of-zvago-stillwater/
LOCATION:Zvago Stillwater\, 114 Brick St S.\, Stillwater\, MN\, 55082
CATEGORIES:past events
ATTACH;FMTTYPE=image/png:https://artessaliving.com/wp-content/uploads/2023/05/Stillwater_Fireside_Lobby.png-carousel-e1570202200180.png
END:VEVENT
END:VCALENDAR