BEGIN:VCALENDAR
VERSION:2.0
PRODID:-//Artessa Living - ECPv6.13.2.1//NONSGML v1.0//EN
CALSCALE:GREGORIAN
METHOD:PUBLISH
X-WR-CALNAME:Artessa Living
X-ORIGINAL-URL:https://artessaliving.com
X-WR-CALDESC:Events for Artessa Living
REFRESH-INTERVAL;VALUE=DURATION:PT1H
X-Robots-Tag:noindex
X-PUBLISHED-TTL:PT1H
BEGIN:VTIMEZONE
TZID:America/New_York
BEGIN:DAYLIGHT
TZOFFSETFROM:-0500
TZOFFSETTO:-0400
TZNAME:EDT
DTSTART:20230312T070000
END:DAYLIGHT
BEGIN:STANDARD
TZOFFSETFROM:-0400
TZOFFSETTO:-0500
TZNAME:EST
DTSTART:20231105T060000
END:STANDARD
END:VTIMEZONE
BEGIN:VEVENT
DTSTART;TZID=America/New_York:20231019T150000
DTEND;TZID=America/New_York:20231019T160000
DTSTAMP:20260420T190651
CREATED:20231002T152633Z
LAST-MODIFIED:20231002T153156Z
UID:2177-1697727600-1697731200@artessaliving.com
SUMMARY:Artessa Canterbury Crossing Informational Session
DESCRIPTION:[vc_row][vc_column][vc_column_text] \n\n\nThis casual event is perfect for individuals considering the cooperative lifestyle who want to learn more about floorplans\, pricing options\, amenities\, the Canterbury Crossing area\, and so much more. \n  \n\nYou’ll have the opportunity to meet our team\, ask questions\, and discover what makes this new community for individuals 62 and better\, the most attractive boutique ownership experience in the area. \n\nLight refreshments will be served.[/vc_column_text]\n\n                 \n \n                        Full Name(Required)\n                            \n                            \n                                                    \n                                                    First\n                                                \n                            \n                            \n                                                    \n                                                    Last\n                                                \n                            \n                        Email(Required)\n                            \n                        Phone(Required)Number of Attendees(Required)General Questions/CommentsHOW DID YOU HEAR ABOUT US?Social MediaPrint AdvertisementEmailDirect MailerOther (Fill in the blank)What other way did you hear about us?CAPTCHA\n          \n            \n            \n            \n            \n            \n            \n            \n            \n            \n            \n            \n            \n        \n                        \n                        \n		                \n		                \n[/vc_column][/vc_row]
URL:https://artessaliving.com/event/artessa-canterbury-crossing-informational-session-5/
LOCATION:Greystone\, 2995 Winners Cir Dr Suite 200\, Shakopee\, MN\, 55379\, United States
CATEGORIES:past events
ATTACH;FMTTYPE=image/jpeg:https://artessaliving.com/wp-content/uploads/2022/08/Event_Canterbury_Crossing3.jpg
END:VEVENT
END:VCALENDAR