BEGIN:VCALENDAR
VERSION:2.0
PRODID:-//Artessa Living - ECPv6.13.2.1//NONSGML v1.0//EN
CALSCALE:GREGORIAN
METHOD:PUBLISH
X-WR-CALNAME:Artessa Living
X-ORIGINAL-URL:https://artessaliving.com
X-WR-CALDESC:Events for Artessa Living
REFRESH-INTERVAL;VALUE=DURATION:PT1H
X-Robots-Tag:noindex
X-PUBLISHED-TTL:PT1H
BEGIN:VTIMEZONE
TZID:America/New_York
BEGIN:DAYLIGHT
TZOFFSETFROM:-0500
TZOFFSETTO:-0400
TZNAME:EDT
DTSTART:20240310T070000
END:DAYLIGHT
BEGIN:STANDARD
TZOFFSETFROM:-0400
TZOFFSETTO:-0500
TZNAME:EST
DTSTART:20241103T060000
END:STANDARD
END:VTIMEZONE
BEGIN:VEVENT
DTSTART;TZID=America/New_York:20241211T093000
DTEND;TZID=America/New_York:20241211T103000
DTSTAMP:20260419T190720
CREATED:20241115T145108Z
LAST-MODIFIED:20250912T202513Z
UID:2654-1733909400-1733913000@artessaliving.com
SUMMARY:Artessa Maple Grove Small Group Meeting
DESCRIPTION:[vc_row][vc_column][vc_column_text css=””]Join us for an informational small group session to learn about the magic of cooperative living\, including community amenities\, residence features\, and more. You’ll have the opportunity to meet our team\, ask questions\, and discover what makes this new community for individuals 62 and better the most attractive ownership experience in the area. \nSeating is limited — RSVP today! \nLocation: Maple Grove Library\, 8001 Main St (Room 133)\, Maple Grove\, MN 55369 \n______________________ \nAbout Artessa Maple Grove \nA rustic\, resort-like setting to suit your lifestyle. Located at the corner of County Road 81 and Maple Grove Parkway\, Artessa is bringing its unique brand of active lifestyle and 62+ co-op communities to Maple Grove’s not-so-sleepy Rush Hollow neighborhood. Artessa Maple Grove at Rush Hollow perfectly balances old-world charm\, modern amenities\, and local conveniences.[/vc_column_text]\n\n                 \n \n                        Full Name(Required)\n                            \n                            \n                                                    \n                                                    First\n                                                \n                            \n                            \n                                                    \n                                                    Last\n                                                \n                            \n                        Email(Required)\n                            \n                        Phone(Required)Number of Attendees(Required)General Questions/CommentsHOW DID YOU HEAR ABOUT US?Social MediaPrint AdvertisementEmailDirect MailerOther (Fill in the blank)What other way did you hear about us?CAPTCHA\n          \n            \n            \n            \n            \n            \n            \n            \n            \n            \n            \n            \n            \n        \n                        \n                        \n[/vc_column][/vc_row]
URL:https://artessaliving.com/event/artessa-maple-grove-small-group-meeting/
LOCATION:Maple Grove Library\, 8001 Main St N.\, Maple Grove\, MN\, 55369\, United States
CATEGORIES:past events
ATTACH;FMTTYPE=image/png:https://artessaliving.com/wp-content/uploads/2024/05/1.png
END:VEVENT
END:VCALENDAR