BEGIN:VCALENDAR
VERSION:2.0
PRODID:-//Artessa Living - ECPv6.13.2.1//NONSGML v1.0//EN
CALSCALE:GREGORIAN
METHOD:PUBLISH
X-WR-CALNAME:Artessa Living
X-ORIGINAL-URL:https://artessaliving.com
X-WR-CALDESC:Events for Artessa Living
REFRESH-INTERVAL;VALUE=DURATION:PT1H
X-Robots-Tag:noindex
X-PUBLISHED-TTL:PT1H
BEGIN:VTIMEZONE
TZID:America/Chicago
BEGIN:DAYLIGHT
TZOFFSETFROM:-0600
TZOFFSETTO:-0500
TZNAME:CDT
DTSTART:20240310T080000
END:DAYLIGHT
BEGIN:STANDARD
TZOFFSETFROM:-0500
TZOFFSETTO:-0600
TZNAME:CST
DTSTART:20241103T070000
END:STANDARD
END:VTIMEZONE
BEGIN:VEVENT
DTSTART;TZID=America/Chicago:20241215T090000
DTEND;TZID=America/Chicago:20241215T180000
DTSTAMP:20260419T190811
CREATED:20241115T145343Z
LAST-MODIFIED:20250912T202451Z
UID:2659-1734253200-1734285600@artessaliving.com
SUMMARY:Appt Only: Sunday Model Residence Tours
DESCRIPTION:[vc_row][vc_column][vc_column_text css=””]We will offer Sunday tours by appointment only this Sunday for individuals interested in exploring cooperative living to see finishes\, layouts\, and more. If you are interested in scheduling a time with a sales team member\, please contact Maggie today at maggie@thislifestyle.com or (612) 283-5240. \nSunday Model Residence Tours | By Appointment Only \n[/vc_column_text]\n\n                 \n \n                        Full Name(Required)\n                            \n                            \n                                                    \n                                                    First\n                                                \n                            \n                            \n                                                    \n                                                    Last\n                                                \n                            \n                        Email(Required)\n                            \n                        Phone(Required)Number of Attendees(Required)General Questions/CommentsHOW DID YOU HEAR ABOUT US?Social MediaPrint AdvertisementEmailDirect MailerOther (Fill in the blank)What other way did you hear about us?CAPTCHA\n          \n            \n            \n            \n            \n            \n            \n            \n            \n            \n            \n            \n            \n        \n                        \n                        \n[/vc_column][/vc_row]
URL:https://artessaliving.com/event/appt-only-sunday-model-residence-tours-2/
LOCATION:Artessa Mound Harbor\, 2350 Harbor Place\, Mound\, MN\, 55364\, United States
CATEGORIES:past events
ATTACH;FMTTYPE=image/png:https://artessaliving.com/wp-content/uploads/2024/10/Screenshot-2024-10-25-at-4.04.32 PM.png
END:VEVENT
END:VCALENDAR