BEGIN:VCALENDAR
VERSION:2.0
PRODID:-//Artessa Living - ECPv6.13.2.1//NONSGML v1.0//EN
CALSCALE:GREGORIAN
METHOD:PUBLISH
X-WR-CALNAME:Artessa Living
X-ORIGINAL-URL:https://artessaliving.com
X-WR-CALDESC:Events for Artessa Living
REFRESH-INTERVAL;VALUE=DURATION:PT1H
X-Robots-Tag:noindex
X-PUBLISHED-TTL:PT1H
BEGIN:VTIMEZONE
TZID:America/New_York
BEGIN:DAYLIGHT
TZOFFSETFROM:-0500
TZOFFSETTO:-0400
TZNAME:EDT
DTSTART:20230312T070000
END:DAYLIGHT
BEGIN:STANDARD
TZOFFSETFROM:-0400
TZOFFSETTO:-0500
TZNAME:EST
DTSTART:20231105T060000
END:STANDARD
END:VTIMEZONE
BEGIN:VEVENT
DTSTART;TZID=America/New_York:20230224T140000
DTEND;TZID=America/New_York:20230224T140000
DTSTAMP:20260421T060552
CREATED:20230206T153449Z
LAST-MODIFIED:20230206T193345Z
UID:1192-1677247200-1677247200@artessaliving.com
SUMMARY:Artessa Canterbury Crossing Informational Session
DESCRIPTION:[vc_row][vc_column]\n\n                 \n \n                        Full Name(Required)\n                            \n                            \n                                                    \n                                                    First\n                                                \n                            \n                            \n                                                    \n                                                    Last\n                                                \n                            \n                        Email(Required)\n                            \n                        Phone(Required)Number of Attendees(Required)General Questions/CommentsHOW DID YOU HEAR ABOUT US?Social MediaPrint AdvertisementEmailDirect MailerOther (Fill in the blank)What other way did you hear about us?CAPTCHA\n          \n            \n            \n            \n            \n            \n            \n            \n            \n            \n            \n            \n            \n        \n                        \n                        \n		                \n		                \n[/vc_column][/vc_row]
URL:https://artessaliving.com/event/artessa-canterbury-crossing-informational-session-2/
LOCATION:Artessa Sales Gallery\, 4938 Lincoln Dr.\, Edina\, MN\, 55436\, United States
CATEGORIES:past events
ATTACH;FMTTYPE=image/jpeg:https://artessaliving.com/wp-content/uploads/2022/08/Event_Canterbury_Crossing2.jpg
END:VEVENT
BEGIN:VEVENT
DTSTART;TZID=America/New_York:20230222T130000
DTEND;TZID=America/New_York:20230222T150000
DTSTAMP:20260421T060552
CREATED:20230206T152642Z
LAST-MODIFIED:20230613T152218Z
UID:1185-1677070800-1677078000@artessaliving.com
SUMMARY:Design Open HouseRESCHEDULED to 3/1/23 -1-3pm due to WEATHER CONDITIONS
DESCRIPTION:[vc_row][vc_column]\n                 \n \n                        Full Name(Required)\n                            \n                            \n                                                    \n                                                    First\n                                                \n                            \n                            \n                                                    \n                                                    Last\n                                                \n                            \n                        Email(Required)\n                            \n                        Phone(Required)Number of Attendees(Required)General Questions/CommentsHOW DID YOU HEAR ABOUT US?Social MediaPrint AdvertisementEmailDirect MailerOther (Fill in the blank)What other way did you hear about us?CAPTCHA\n          \n            \n            \n            \n            \n            \n            \n            \n            \n            \n            \n            \n            \n        \n                        \n                        \n		                \n		                \n[/vc_column][/vc_row]
URL:https://artessaliving.com/event/design-open-house-3/
LOCATION:Artessa Design Studio\, 4938 Lincoln Drive\, Edina\, 55436
CATEGORIES:past events
ATTACH;FMTTYPE=image/jpeg:https://artessaliving.com/wp-content/uploads/2023/02/design_event.jpg
END:VEVENT
BEGIN:VEVENT
DTSTART;TZID=America/New_York:20230218T110000
DTEND;TZID=America/New_York:20230218T130000
DTSTAMP:20260421T060552
CREATED:20230209T221853Z
LAST-MODIFIED:20230209T222102Z
UID:1444-1676718000-1676725200@artessaliving.com
SUMMARY:Mound Harbor Sales Gallery Open House
DESCRIPTION:[vc_row][vc_column][vc_column_text]Join us for coffee and pastries and come learn all about the excitement building at Artessa Mound Harbor![/vc_column_text]\n                 \n \n                        Full Name(Required)\n                            \n                            \n                                                    \n                                                    First\n                                                \n                            \n                            \n                                                    \n                                                    Last\n                                                \n                            \n                        Email(Required)\n                            \n                        Phone(Required)Number of Attendees(Required)General Questions/CommentsHOW DID YOU HEAR ABOUT US?Social MediaPrint AdvertisementEmailDirect MailerOther (Fill in the blank)What other way did you hear about us?CAPTCHA\n          \n            \n            \n            \n            \n            \n            \n            \n            \n            \n            \n            \n            \n        \n                        \n                        \n		                \n		                \n[/vc_column][/vc_row]
URL:https://artessaliving.com/event/mound-harbor-sales-gallery-open-house-2/
LOCATION:Mound Harbor Sales Gallery\, 2206 Commerce Boulevard\, Mound Harbor\, MN\, 55364\, United States
CATEGORIES:past events
ATTACH;FMTTYPE=image/jpeg:https://artessaliving.com/wp-content/uploads/2023/02/Event_Mound_harbor.jpg
END:VEVENT
BEGIN:VEVENT
DTSTART;TZID=America/New_York:20230215T140000
DTEND;TZID=America/New_York:20230215T150000
DTSTAMP:20260421T060552
CREATED:20220819T080513Z
LAST-MODIFIED:20230209T222740Z
UID:469-1676469600-1676473200@artessaliving.com
SUMMARY:Artessa Canterbury Crossing Large Group Informational Session
DESCRIPTION:[vc_row][vc_column][vc_column_text]Attend and be entered for the chance to win a $50 HyVee Gas Gift Card.[/vc_column_text][/vc_column][/vc_row][vc_row][vc_column]\n                 \n \n                        Full Name(Required)\n                            \n                            \n                                                    \n                                                    First\n                                                \n                            \n                            \n                                                    \n                                                    Last\n                                                \n                            \n                        Email(Required)\n                            \n                        Phone(Required)Number of Attendees(Required)General Questions/CommentsHOW DID YOU HEAR ABOUT US?Social MediaPrint AdvertisementEmailDirect MailerOther (Fill in the blank)What other way did you hear about us?CAPTCHA\n          \n            \n            \n            \n            \n            \n            \n            \n            \n            \n            \n            \n            \n        \n                        \n                        \n		                \n		                \n[/vc_column][/vc_row]
URL:https://artessaliving.com/event/event-1-upcoming/
LOCATION:Stonebrooke Golf Club\, 2693 Co Rd 79\, Shakopee\, 55379
CATEGORIES:past events
ATTACH;FMTTYPE=image/jpeg:https://artessaliving.com/wp-content/uploads/2022/08/Event_Canterbury_Crossing.jpg
END:VEVENT
BEGIN:VEVENT
DTSTART;TZID=America/New_York:20230214T100000
DTEND;TZID=America/New_York:20230214T100000
DTSTAMP:20260421T060552
CREATED:20230206T153212Z
LAST-MODIFIED:20230206T195252Z
UID:1189-1676368800-1676368800@artessaliving.com
SUMMARY:Artessa Canterbury Crossing Informational Session
DESCRIPTION:[vc_row][vc_column]\n                 \n \n                        Full Name(Required)\n                            \n                            \n                                                    \n                                                    First\n                                                \n                            \n                            \n                                                    \n                                                    Last\n                                                \n                            \n                        Email(Required)\n                            \n                        Phone(Required)Number of Attendees(Required)General Questions/CommentsHOW DID YOU HEAR ABOUT US?Social MediaPrint AdvertisementEmailDirect MailerOther (Fill in the blank)What other way did you hear about us?CAPTCHA\n          \n            \n            \n            \n            \n            \n            \n            \n            \n            \n            \n            \n            \n        \n                        \n                        \n		                \n		                \n[/vc_column][/vc_row]
URL:https://artessaliving.com/event/artessa-canterbury-crossing-informational-session/
LOCATION:Artessa Sales Gallery\, 4938 Lincoln Dr.\, Edina\, MN\, 55436\, United States
CATEGORIES:past events
ATTACH;FMTTYPE=image/png:https://artessaliving.com/wp-content/uploads/2022/08/Event-Image-1-min.png
END:VEVENT
BEGIN:VEVENT
DTSTART;TZID=America/New_York:20230211T110000
DTEND;TZID=America/New_York:20230211T130000
DTSTAMP:20260421T060552
CREATED:20230209T221738Z
LAST-MODIFIED:20230209T222107Z
UID:1442-1676113200-1676120400@artessaliving.com
SUMMARY:Mound Harbor Sales Gallery Open House
DESCRIPTION:[vc_row][vc_column][vc_column_text]Join us for coffee and pastries and come learn all about the excitement building at Artessa Mound Harbor![/vc_column_text]\n                 \n \n                        Full Name(Required)\n                            \n                            \n                                                    \n                                                    First\n                                                \n                            \n                            \n                                                    \n                                                    Last\n                                                \n                            \n                        Email(Required)\n                            \n                        Phone(Required)Number of Attendees(Required)General Questions/CommentsHOW DID YOU HEAR ABOUT US?Social MediaPrint AdvertisementEmailDirect MailerOther (Fill in the blank)What other way did you hear about us?CAPTCHA\n          \n            \n            \n            \n            \n            \n            \n            \n            \n            \n            \n            \n            \n        \n                        \n                        \n		                \n		                \n[/vc_column][/vc_row]
URL:https://artessaliving.com/event/mound-harbor-sales-gallery-open-house/
LOCATION:Mound Harbor Sales Gallery\, 2206 Commerce Boulevard\, Mound Harbor\, MN\, 55364\, United States
CATEGORIES:past events
ATTACH;FMTTYPE=image/jpeg:https://artessaliving.com/wp-content/uploads/2023/02/Event_Mound_harbor3.jpg
END:VEVENT
BEGIN:VEVENT
DTSTART;TZID=America/New_York:20230202T130000
DTEND;TZID=America/New_York:20230202T150000
DTSTAMP:20260421T060552
CREATED:20220819T102555Z
LAST-MODIFIED:20230126T143109Z
UID:530-1675342800-1675350000@artessaliving.com
SUMMARY:Artessa Mound Harbor Large Group Informational Session
DESCRIPTION:[vc_row][vc_column]\n                 \n \n                        Full Name(Required)\n                            \n                            \n                                                    \n                                                    First\n                                                \n                            \n                            \n                                                    \n                                                    Last\n                                                \n                            \n                        Email(Required)\n                            \n                        Phone(Required)Number of Attendees(Required)General Questions/CommentsHOW DID YOU HEAR ABOUT US?Social MediaPrint AdvertisementEmailDirect MailerOther (Fill in the blank)What other way did you hear about us?CAPTCHA\n          \n            \n            \n            \n            \n            \n            \n            \n            \n            \n            \n            \n            \n        \n                        \n                        \n		                \n		                \n[/vc_column][/vc_row]
URL:https://artessaliving.com/event/artessa-mound-harbor-large-group-informational-session/
LOCATION:Al & Alma’s Supper Club\, 5201 Piper Rd\, MN\, 55364\, United States
CATEGORIES:past events
ATTACH;FMTTYPE=image/png:https://artessaliving.com/wp-content/uploads/2022/08/Event-Image-2-min.png
END:VEVENT
BEGIN:VEVENT
DTSTART;TZID=America/New_York:20230128T110000
DTEND;TZID=America/New_York:20230128T130000
DTSTAMP:20260421T060552
CREATED:20220819T080825Z
LAST-MODIFIED:20230126T143129Z
UID:472-1674903600-1674910800@artessaliving.com
SUMMARY:Artessa Mound Harbor\, Sales Gallery Open House
DESCRIPTION:[vc_row][vc_column]\n                 \n \n                        Full Name(Required)\n                            \n                            \n                                                    \n                                                    First\n                                                \n                            \n                            \n                                                    \n                                                    Last\n                                                \n                            \n                        Email(Required)\n                            \n                        Phone(Required)Number of Attendees(Required)General Questions/CommentsHOW DID YOU HEAR ABOUT US?Social MediaPrint AdvertisementEmailDirect MailerOther (Fill in the blank)What other way did you hear about us?CAPTCHA\n          \n            \n            \n            \n            \n            \n            \n            \n            \n            \n            \n            \n            \n        \n                        \n                        \n		                \n		                \n[/vc_column][/vc_row]
URL:https://artessaliving.com/event/artessa-mound-harbor-sales-gallery-open-house/
LOCATION:Mound Harbor Sales Gallery\, 2206 Commerce Boulevard\, Mound Harbor\, MN\, 55364\, United States
CATEGORIES:past events
ATTACH;FMTTYPE=image/png:https://artessaliving.com/wp-content/uploads/2022/08/Event-Image-1-min.png
END:VEVENT
END:VCALENDAR