BEGIN:VCALENDAR
VERSION:2.0
PRODID:-//Artessa Ingersoll - ECPv6.13.2.1//NONSGML v1.0//EN
CALSCALE:GREGORIAN
METHOD:PUBLISH
X-WR-CALNAME:Artessa Ingersoll
X-ORIGINAL-URL:https://artessaliving.com/ingersoll
X-WR-CALDESC:Events for Artessa Ingersoll
REFRESH-INTERVAL;VALUE=DURATION:PT1H
X-Robots-Tag:noindex
X-PUBLISHED-TTL:PT1H
BEGIN:VTIMEZONE
TZID:America/New_York
BEGIN:DAYLIGHT
TZOFFSETFROM:-0500
TZOFFSETTO:-0400
TZNAME:EDT
DTSTART:20250309T070000
END:DAYLIGHT
BEGIN:STANDARD
TZOFFSETFROM:-0400
TZOFFSETTO:-0500
TZNAME:EST
DTSTART:20251102T060000
END:STANDARD
END:VTIMEZONE
BEGIN:VEVENT
DTSTART;TZID=America/New_York:20251119T150000
DTEND;TZID=America/New_York:20251119T163000
DTSTAMP:20260420T061317
CREATED:20251022T175252Z
LAST-MODIFIED:20251126T164718Z
UID:3234-1763564400-1763569800@artessaliving.com
SUMMARY:A Taste of Artessa on Ingersoll
DESCRIPTION:[vc_row][vc_column][vc_column_text css=””] \nJoin us for A Taste of Artessa\, a presentation on Artessa on Ingersoll at Eatery A\, and discover the magic of cooperative living. Learn about community amenities\, residence features\, and more\, while enjoying wine\, appetizers\, and conversation with potential future neighbors. You’ll have the opportunity to meet our team\, ask questions\, and see what makes this new 55+ ownership community one of Des Moines’ most exciting developments. \nAbout Artessa on IngersollComing soon to the vibrant Avenues of Des Moines\, Artessa on Ingersoll combines historic charm with modern convenience. This boutique-style cooperative offers pride of ownership in a community packed with amenities. Choose from 52 private residences or 6 villa-style townhomes ranging from 1\,172 to 1\,868 sq. ft.\, and take advantage of the exclusive opportunity to buy and design your home before it’s built. \nCommunity Amenities Include: \n\n\nOutdoor rooftop patio & fire feature \n\n\nGrand Fireside Lobby & Game Room \n\n\nBusiness Hub & Shared Workspace \n\n\nGreat Room with entertainment kitchen \n\n\nSolarium & Wellness Studio \n\n\nCafé-style gathering space & more! \n\n\nSeating is limited — RSVP today!Apps and beverages provided. \n[/vc_column_text][/vc_column][/vc_row][vc_row][vc_column]\n\n                 \n \n                        Full Name(Required)\n                            \n                            \n                                                    \n                                                    First\n                                                \n                            \n                            \n                                                    \n                                                    Last\n                                                \n                            \n                        Email(Required)\n                            \n                        Phone(Required)Number of Attendees(Required)General Questions/CommentsCAPTCHAPhoneThis field is for validation purposes and should be left unchanged.\n          \n            \n            \n            \n            \n            \n            \n            \n            \n            \n            \n            \n            \n        \n                        \n                        \n[/vc_column][/vc_row]
URL:https://artessaliving.com/ingersoll/event/a-taste-of-artessa-on-ingersoll/
LOCATION:Eatery A\, 2932 Ingersoll Ave\, Des Moines\, 50312\, United States
CATEGORIES:past events
ATTACH;FMTTYPE=image/jpeg:https://artessaliving.com/ingersoll/wp-content/uploads/sites/8/2025/10/RLozier-9648-1-e1761583528821.jpg
END:VEVENT
END:VCALENDAR